BEGIN:VCALENDAR
VERSION:2.0
PRODID:-//Kamelienschloss - ECPv5.16.1.1//NONSGML v1.0//EN
CALSCALE:GREGORIAN
METHOD:PUBLISH
X-WR-CALNAME:Kamelienschloss
X-ORIGINAL-URL:https://kamelienschloss.de
X-WR-CALDESC:Veranstaltungen für Kamelienschloss
BEGIN:VTIMEZONE
TZID:Europe/Berlin
BEGIN:DAYLIGHT
TZOFFSETFROM:+0100
TZOFFSETTO:+0200
TZNAME:CEST
DTSTART:20220327T010000
END:DAYLIGHT
BEGIN:STANDARD
TZOFFSETFROM:+0200
TZOFFSETTO:+0100
TZNAME:CET
DTSTART:20221030T010000
END:STANDARD
END:VTIMEZONE
BEGIN:VEVENT
DTSTART;VALUE=DATE:20220314
DTEND;VALUE=DATE:20220419
DTSTAMP:20260423T025312
CREATED:20210809T194148Z
LAST-MODIFIED:20210809T194148Z
UID:1853-1647216000-1650326399@kamelienschloss.de
SUMMARY:XVIII. Sächsische Kamelienblütenschau im Landschloß
DESCRIPTION:
URL:https://kamelienschloss.de/veranstaltung/xviii-saechsische-kamelienbluetenschau-im-landschloss/
ATTACH;FMTTYPE=image/jpeg:https://kamelienschloss.de/wp-content/uploads/2019/08/15-C.j.Frau-Minna-Seidel.jpg
END:VEVENT
END:VCALENDAR